BEGIN:VCALENDAR
VERSION:2.0
PRODID:-//eBridge Center - ECPv6.15.20//NONSGML v1.0//EN
CALSCALE:GREGORIAN
METHOD:PUBLISH
X-WR-CALNAME:eBridge Center
X-ORIGINAL-URL:https://ebridgecenter.com
X-WR-CALDESC:Events for eBridge Center
REFRESH-INTERVAL;VALUE=DURATION:PT1H
X-Robots-Tag:noindex
X-PUBLISHED-TTL:PT1H
BEGIN:VTIMEZONE
TZID:America/Chicago
BEGIN:DAYLIGHT
TZOFFSETFROM:-0600
TZOFFSETTO:-0500
TZNAME:CDT
DTSTART:20230312T080000
END:DAYLIGHT
BEGIN:STANDARD
TZOFFSETFROM:-0500
TZOFFSETTO:-0600
TZNAME:CST
DTSTART:20231105T070000
END:STANDARD
BEGIN:DAYLIGHT
TZOFFSETFROM:-0600
TZOFFSETTO:-0500
TZNAME:CDT
DTSTART:20240310T080000
END:DAYLIGHT
BEGIN:STANDARD
TZOFFSETFROM:-0500
TZOFFSETTO:-0600
TZNAME:CST
DTSTART:20241103T070000
END:STANDARD
BEGIN:DAYLIGHT
TZOFFSETFROM:-0600
TZOFFSETTO:-0500
TZNAME:CDT
DTSTART:20250309T080000
END:DAYLIGHT
BEGIN:STANDARD
TZOFFSETFROM:-0500
TZOFFSETTO:-0600
TZNAME:CST
DTSTART:20251102T070000
END:STANDARD
END:VTIMEZONE
BEGIN:VEVENT
DTSTART;TZID=America/Chicago:20240520T050000
DTEND;TZID=America/Chicago:20240520T070000
DTSTAMP:20260422T042141
CREATED:20231012T193742Z
LAST-MODIFIED:20231012T193742Z
UID:1393-1716181200-1716188400@ebridgecenter.com
SUMMARY:Startup Texas SBIR/STTR Innovation Cohort
DESCRIPTION:
URL:https://ebridgecenter.com/event/startup-texas-sbir-sttr-innovation-cohort/
LOCATION:The eBridge Center for Business & Commercialization\, 1304 E Adams St\, Brownsville\, TX\, 78520\, United States
CATEGORIES:Information
END:VEVENT
BEGIN:VEVENT
DTSTART;TZID=America/Chicago:20240909T050000
DTEND;TZID=America/Chicago:20240909T070000
DTSTAMP:20260422T042141
CREATED:20231012T194257Z
LAST-MODIFIED:20231012T194257Z
UID:1403-1725858000-1725865200@ebridgecenter.com
SUMMARY:Startup Texas Emerging Industries Cohort
DESCRIPTION:
URL:https://ebridgecenter.com/event/startup-texas-emerging-industries-cohort/
LOCATION:The eBridge Center for Business & Commercialization\, 1304 E Adams St\, Brownsville\, TX\, 78520\, United States
CATEGORIES:Information
END:VEVENT
BEGIN:VEVENT
DTSTART;TZID=America/Chicago:20240903T110000
DTEND;TZID=America/Chicago:20240903T140000
DTSTAMP:20260422T042141
CREATED:20231012T193905Z
LAST-MODIFIED:20231012T194051Z
UID:1398-1725361200-1725372000@ebridgecenter.com
SUMMARY:Kauffman Fasttrac Program
DESCRIPTION:
URL:https://ebridgecenter.com/event/kauffman-fasttrac-program-3/
LOCATION:TX
CATEGORIES:Information
END:VEVENT
BEGIN:VEVENT
DTSTART;TZID=America/Chicago:20240508T030000
DTEND;TZID=America/Chicago:20240508T140000
DTSTAMP:20260422T042141
CREATED:20231012T193640Z
LAST-MODIFIED:20231012T194115Z
UID:1390-1715137200-1715176800@ebridgecenter.com
SUMMARY:Kauffman Fasttrac Program
DESCRIPTION:
URL:https://ebridgecenter.com/event/kauffman-fasttrac-program-2/
LOCATION:The eBridge Center for Business & Commercialization\, 1304 E Adams St\, Brownsville\, TX\, 78520\, United States
CATEGORIES:Information
END:VEVENT
BEGIN:VEVENT
DTSTART;TZID=America/Chicago:20240520T050000
DTEND;TZID=America/Chicago:20240520T070000
DTSTAMP:20260422T042141
CREATED:20231012T193742Z
LAST-MODIFIED:20231012T193742Z
UID:1393-1716181200-1716188400@ebridgecenter.com
SUMMARY:Startup Texas SBIR/STTR Innovation Cohort
DESCRIPTION:
URL:https://ebridgecenter.com/event/startup-texas-sbir-sttr-innovation-cohort/
LOCATION:The eBridge Center for Business & Commercialization\, 1304 E Adams St\, Brownsville\, TX\, 78520\, United States
CATEGORIES:Information
END:VEVENT
BEGIN:VEVENT
DTSTART;TZID=America/Chicago:20240909T050000
DTEND;TZID=America/Chicago:20240909T070000
DTSTAMP:20260422T042141
CREATED:20231012T194257Z
LAST-MODIFIED:20231012T194257Z
UID:1403-1725858000-1725865200@ebridgecenter.com
SUMMARY:Startup Texas Emerging Industries Cohort
DESCRIPTION:
URL:https://ebridgecenter.com/event/startup-texas-emerging-industries-cohort/
LOCATION:The eBridge Center for Business & Commercialization\, 1304 E Adams St\, Brownsville\, TX\, 78520\, United States
CATEGORIES:Information
END:VEVENT
BEGIN:VEVENT
DTSTART;TZID=America/Chicago:20240520T050000
DTEND;TZID=America/Chicago:20240520T070000
DTSTAMP:20260422T042141
CREATED:20231012T193742Z
LAST-MODIFIED:20231012T193742Z
UID:1393-1716181200-1716188400@ebridgecenter.com
SUMMARY:Startup Texas SBIR/STTR Innovation Cohort
DESCRIPTION:
URL:https://ebridgecenter.com/event/startup-texas-sbir-sttr-innovation-cohort/
LOCATION:The eBridge Center for Business & Commercialization\, 1304 E Adams St\, Brownsville\, TX\, 78520\, United States
CATEGORIES:Information
END:VEVENT
BEGIN:VEVENT
DTSTART;TZID=America/Chicago:20240909T050000
DTEND;TZID=America/Chicago:20240909T070000
DTSTAMP:20260422T042141
CREATED:20231012T194257Z
LAST-MODIFIED:20231012T194257Z
UID:1403-1725858000-1725865200@ebridgecenter.com
SUMMARY:Startup Texas Emerging Industries Cohort
DESCRIPTION:
URL:https://ebridgecenter.com/event/startup-texas-emerging-industries-cohort/
LOCATION:The eBridge Center for Business & Commercialization\, 1304 E Adams St\, Brownsville\, TX\, 78520\, United States
CATEGORIES:Information
END:VEVENT
BEGIN:VEVENT
DTSTART;TZID=America/Chicago:20240903T110000
DTEND;TZID=America/Chicago:20240903T140000
DTSTAMP:20260422T042141
CREATED:20231012T193905Z
LAST-MODIFIED:20231012T194051Z
UID:1398-1725361200-1725372000@ebridgecenter.com
SUMMARY:Kauffman Fasttrac Program
DESCRIPTION:
URL:https://ebridgecenter.com/event/kauffman-fasttrac-program-3/
LOCATION:TX
CATEGORIES:Information
END:VEVENT
BEGIN:VEVENT
DTSTART;TZID=America/Chicago:20240508T030000
DTEND;TZID=America/Chicago:20240508T140000
DTSTAMP:20260422T042141
CREATED:20231012T193640Z
LAST-MODIFIED:20231012T194115Z
UID:1390-1715137200-1715176800@ebridgecenter.com
SUMMARY:Kauffman Fasttrac Program
DESCRIPTION:
URL:https://ebridgecenter.com/event/kauffman-fasttrac-program-2/
LOCATION:The eBridge Center for Business & Commercialization\, 1304 E Adams St\, Brownsville\, TX\, 78520\, United States
CATEGORIES:Information
END:VEVENT
BEGIN:VEVENT
DTSTART;TZID=America/Chicago:20240520T050000
DTEND;TZID=America/Chicago:20240520T070000
DTSTAMP:20260422T042141
CREATED:20231012T193742Z
LAST-MODIFIED:20231012T193742Z
UID:1393-1716181200-1716188400@ebridgecenter.com
SUMMARY:Startup Texas SBIR/STTR Innovation Cohort
DESCRIPTION:
URL:https://ebridgecenter.com/event/startup-texas-sbir-sttr-innovation-cohort/
LOCATION:The eBridge Center for Business & Commercialization\, 1304 E Adams St\, Brownsville\, TX\, 78520\, United States
CATEGORIES:Information
END:VEVENT
BEGIN:VEVENT
DTSTART;TZID=America/Chicago:20240909T050000
DTEND;TZID=America/Chicago:20240909T070000
DTSTAMP:20260422T042141
CREATED:20231012T194257Z
LAST-MODIFIED:20231012T194257Z
UID:1403-1725858000-1725865200@ebridgecenter.com
SUMMARY:Startup Texas Emerging Industries Cohort
DESCRIPTION:
URL:https://ebridgecenter.com/event/startup-texas-emerging-industries-cohort/
LOCATION:The eBridge Center for Business & Commercialization\, 1304 E Adams St\, Brownsville\, TX\, 78520\, United States
CATEGORIES:Information
END:VEVENT
BEGIN:VEVENT
DTSTART;TZID=America/Chicago:20240520T050000
DTEND;TZID=America/Chicago:20240520T070000
DTSTAMP:20260422T042141
CREATED:20231012T193742Z
LAST-MODIFIED:20231012T193742Z
UID:1393-1716181200-1716188400@ebridgecenter.com
SUMMARY:Startup Texas SBIR/STTR Innovation Cohort
DESCRIPTION:
URL:https://ebridgecenter.com/event/startup-texas-sbir-sttr-innovation-cohort/
LOCATION:The eBridge Center for Business & Commercialization\, 1304 E Adams St\, Brownsville\, TX\, 78520\, United States
CATEGORIES:Information
END:VEVENT
BEGIN:VEVENT
DTSTART;TZID=America/Chicago:20240909T050000
DTEND;TZID=America/Chicago:20240909T070000
DTSTAMP:20260422T042141
CREATED:20231012T194257Z
LAST-MODIFIED:20231012T194257Z
UID:1403-1725858000-1725865200@ebridgecenter.com
SUMMARY:Startup Texas Emerging Industries Cohort
DESCRIPTION:
URL:https://ebridgecenter.com/event/startup-texas-emerging-industries-cohort/
LOCATION:The eBridge Center for Business & Commercialization\, 1304 E Adams St\, Brownsville\, TX\, 78520\, United States
CATEGORIES:Information
END:VEVENT
BEGIN:VEVENT
DTSTART;TZID=America/Chicago:20240903T110000
DTEND;TZID=America/Chicago:20240903T140000
DTSTAMP:20260422T042141
CREATED:20231012T193905Z
LAST-MODIFIED:20231012T194051Z
UID:1398-1725361200-1725372000@ebridgecenter.com
SUMMARY:Kauffman Fasttrac Program
DESCRIPTION:
URL:https://ebridgecenter.com/event/kauffman-fasttrac-program-3/
LOCATION:TX
CATEGORIES:Information
END:VEVENT
BEGIN:VEVENT
DTSTART;TZID=America/Chicago:20240508T030000
DTEND;TZID=America/Chicago:20240508T140000
DTSTAMP:20260422T042141
CREATED:20231012T193640Z
LAST-MODIFIED:20231012T194115Z
UID:1390-1715137200-1715176800@ebridgecenter.com
SUMMARY:Kauffman Fasttrac Program
DESCRIPTION:
URL:https://ebridgecenter.com/event/kauffman-fasttrac-program-2/
LOCATION:The eBridge Center for Business & Commercialization\, 1304 E Adams St\, Brownsville\, TX\, 78520\, United States
CATEGORIES:Information
END:VEVENT
BEGIN:VEVENT
DTSTART;TZID=America/Chicago:20240520T050000
DTEND;TZID=America/Chicago:20240520T070000
DTSTAMP:20260422T042141
CREATED:20231012T193742Z
LAST-MODIFIED:20231012T193742Z
UID:1393-1716181200-1716188400@ebridgecenter.com
SUMMARY:Startup Texas SBIR/STTR Innovation Cohort
DESCRIPTION:
URL:https://ebridgecenter.com/event/startup-texas-sbir-sttr-innovation-cohort/
LOCATION:The eBridge Center for Business & Commercialization\, 1304 E Adams St\, Brownsville\, TX\, 78520\, United States
CATEGORIES:Information
END:VEVENT
BEGIN:VEVENT
DTSTART;TZID=America/Chicago:20240909T050000
DTEND;TZID=America/Chicago:20240909T070000
DTSTAMP:20260422T042141
CREATED:20231012T194257Z
LAST-MODIFIED:20231012T194257Z
UID:1403-1725858000-1725865200@ebridgecenter.com
SUMMARY:Startup Texas Emerging Industries Cohort
DESCRIPTION:
URL:https://ebridgecenter.com/event/startup-texas-emerging-industries-cohort/
LOCATION:The eBridge Center for Business & Commercialization\, 1304 E Adams St\, Brownsville\, TX\, 78520\, United States
CATEGORIES:Information
END:VEVENT
BEGIN:VEVENT
DTSTART;TZID=America/Chicago:20240520T050000
DTEND;TZID=America/Chicago:20240520T070000
DTSTAMP:20260422T042141
CREATED:20231012T193742Z
LAST-MODIFIED:20231012T193742Z
UID:1393-1716181200-1716188400@ebridgecenter.com
SUMMARY:Startup Texas SBIR/STTR Innovation Cohort
DESCRIPTION:
URL:https://ebridgecenter.com/event/startup-texas-sbir-sttr-innovation-cohort/
LOCATION:The eBridge Center for Business & Commercialization\, 1304 E Adams St\, Brownsville\, TX\, 78520\, United States
CATEGORIES:Information
END:VEVENT
BEGIN:VEVENT
DTSTART;TZID=America/Chicago:20240909T050000
DTEND;TZID=America/Chicago:20240909T070000
DTSTAMP:20260422T042141
CREATED:20231012T194257Z
LAST-MODIFIED:20231012T194257Z
UID:1403-1725858000-1725865200@ebridgecenter.com
SUMMARY:Startup Texas Emerging Industries Cohort
DESCRIPTION:
URL:https://ebridgecenter.com/event/startup-texas-emerging-industries-cohort/
LOCATION:The eBridge Center for Business & Commercialization\, 1304 E Adams St\, Brownsville\, TX\, 78520\, United States
CATEGORIES:Information
END:VEVENT
BEGIN:VEVENT
DTSTART;TZID=America/Chicago:20240903T110000
DTEND;TZID=America/Chicago:20240903T140000
DTSTAMP:20260422T042141
CREATED:20231012T193905Z
LAST-MODIFIED:20231012T194051Z
UID:1398-1725361200-1725372000@ebridgecenter.com
SUMMARY:Kauffman Fasttrac Program
DESCRIPTION:
URL:https://ebridgecenter.com/event/kauffman-fasttrac-program-3/
LOCATION:TX
CATEGORIES:Information
END:VEVENT
BEGIN:VEVENT
DTSTART;TZID=America/Chicago:20240508T030000
DTEND;TZID=America/Chicago:20240508T140000
DTSTAMP:20260422T042141
CREATED:20231012T193640Z
LAST-MODIFIED:20231012T194115Z
UID:1390-1715137200-1715176800@ebridgecenter.com
SUMMARY:Kauffman Fasttrac Program
DESCRIPTION:
URL:https://ebridgecenter.com/event/kauffman-fasttrac-program-2/
LOCATION:The eBridge Center for Business & Commercialization\, 1304 E Adams St\, Brownsville\, TX\, 78520\, United States
CATEGORIES:Information
END:VEVENT
BEGIN:VEVENT
DTSTART;TZID=America/Chicago:20240520T050000
DTEND;TZID=America/Chicago:20240520T070000
DTSTAMP:20260422T042141
CREATED:20231012T193742Z
LAST-MODIFIED:20231012T193742Z
UID:1393-1716181200-1716188400@ebridgecenter.com
SUMMARY:Startup Texas SBIR/STTR Innovation Cohort
DESCRIPTION:
URL:https://ebridgecenter.com/event/startup-texas-sbir-sttr-innovation-cohort/
LOCATION:The eBridge Center for Business & Commercialization\, 1304 E Adams St\, Brownsville\, TX\, 78520\, United States
CATEGORIES:Information
END:VEVENT
BEGIN:VEVENT
DTSTART;TZID=America/Chicago:20240909T050000
DTEND;TZID=America/Chicago:20240909T070000
DTSTAMP:20260422T042141
CREATED:20231012T194257Z
LAST-MODIFIED:20231012T194257Z
UID:1403-1725858000-1725865200@ebridgecenter.com
SUMMARY:Startup Texas Emerging Industries Cohort
DESCRIPTION:
URL:https://ebridgecenter.com/event/startup-texas-emerging-industries-cohort/
LOCATION:The eBridge Center for Business & Commercialization\, 1304 E Adams St\, Brownsville\, TX\, 78520\, United States
CATEGORIES:Information
END:VEVENT
BEGIN:VEVENT
DTSTART;TZID=America/Chicago:20240520T050000
DTEND;TZID=America/Chicago:20240520T070000
DTSTAMP:20260422T042141
CREATED:20231012T193742Z
LAST-MODIFIED:20231012T193742Z
UID:1393-1716181200-1716188400@ebridgecenter.com
SUMMARY:Startup Texas SBIR/STTR Innovation Cohort
DESCRIPTION:
URL:https://ebridgecenter.com/event/startup-texas-sbir-sttr-innovation-cohort/
LOCATION:The eBridge Center for Business & Commercialization\, 1304 E Adams St\, Brownsville\, TX\, 78520\, United States
CATEGORIES:Information
END:VEVENT
BEGIN:VEVENT
DTSTART;TZID=America/Chicago:20240909T050000
DTEND;TZID=America/Chicago:20240909T070000
DTSTAMP:20260422T042141
CREATED:20231012T194257Z
LAST-MODIFIED:20231012T194257Z
UID:1403-1725858000-1725865200@ebridgecenter.com
SUMMARY:Startup Texas Emerging Industries Cohort
DESCRIPTION:
URL:https://ebridgecenter.com/event/startup-texas-emerging-industries-cohort/
LOCATION:The eBridge Center for Business & Commercialization\, 1304 E Adams St\, Brownsville\, TX\, 78520\, United States
CATEGORIES:Information
END:VEVENT
END:VCALENDAR